BEGIN:VCALENDAR
VERSION:2.0
PRODID:-//Plone.org//NONSGML plone.app.event//EN
X-WR-TIMEZONE:Europe/Rome
BEGIN:VEVENT
SUMMARY:Idrocefalo normoteso
DTSTART;VALUE=DATE:20211026
DTEND;VALUE=DATE:20211027
DTSTAMP;VALUE=DATE-TIME:20260422T223452Z
UID:49a7a273f5994e87b729d268ecb1600f@127.0.0.1:8095
CREATED;VALUE=DATE-TIME:20210917T152207Z
DESCRIPTION:Seminari IRCCS - Blu
LAST-MODIFIED;VALUE=DATE-TIME:20221129T151632Z
URL:https://www.ausl.bologna.it/istituto-delle-scienze-neurologiche/appunt
 amenti-dellistituto/archivio/eventi-passati/idrocefalo-normoteso
END:VEVENT
END:VCALENDAR
