BEGIN:VCALENDAR
VERSION:2.0
PRODID:-//Plone.org//NONSGML plone.app.event//EN
X-WR-TIMEZONE:Europe/Rome
BEGIN:VEVENT
SUMMARY:Horizon Europe: come scrivere una proposta di successo in ambito S
 alute
DTSTART;VALUE=DATE:20210621
DTEND;VALUE=DATE:20210622
DTSTAMP;VALUE=DATE-TIME:20260422T223957Z
UID:8d148b95c30d4cff962d9db23e7feed3@127.0.0.1:8095
CREATED;VALUE=DATE-TIME:20210616T145858Z
DESCRIPTION:webinar
LAST-MODIFIED;VALUE=DATE-TIME:20221129T151634Z
URL:https://www.ausl.bologna.it/istituto-delle-scienze-neurologiche/appunt
 amenti-dellistituto/archivio/eventi-passati/horizon-europe-come-scrivere-u
 na-proposta-di-successo-in-ambito-salute
END:VEVENT
END:VCALENDAR
