BEGIN:VCALENDAR
VERSION:2.0
PRODID:-//Plone.org//NONSGML plone.app.event//EN
X-WR-TIMEZONE:Europe/Rome
BEGIN:VEVENT
SUMMARY:Giornate Europee della Ricerca e dell'Innovazione
DTSTART;VALUE=DATE:20210624
DTEND;VALUE=DATE:20210625
DTSTAMP;VALUE=DATE-TIME:20260422T223533Z
UID:4fcf07d18706463ca4a0ae780d04a394@127.0.0.1:8095
CREATED;VALUE=DATE-TIME:20210616T151407Z
DESCRIPTION:webinar
LAST-MODIFIED;VALUE=DATE-TIME:20221129T151634Z
URL:https://www.ausl.bologna.it/istituto-delle-scienze-neurologiche/appunt
 amenti-dellistituto/archivio/eventi-passati/giornate-europee-della-ricerca
 -e-dellinnovazione-1
END:VEVENT
END:VCALENDAR
