BEGIN:VCALENDAR
VERSION:2.0
PRODID:-//Plone.org//NONSGML plone.app.event//EN
X-WR-TIMEZONE:Europe/Rome
BEGIN:VEVENT
SUMMARY:Giornata nazionale per la sicurezza delle cure e della persona ass
 istita
DTSTART;VALUE=DATE:20220917
DTEND;VALUE=DATE:20220918
DTSTAMP;VALUE=DATE-TIME:20260422T205743Z
UID:1f2eda49c68449b4b94a935bf3b780c3@127.0.0.1:8095
CREATED;VALUE=DATE-TIME:20220914T101333Z
DESCRIPTION:Roma\, 17 settembre 2019\, Ministero della Salute\, Lungotev
 ere Ripa 1\, Auditorium "Cosimo Piccinno"
LAST-MODIFIED;VALUE=DATE-TIME:20221129T151621Z
URL:https://www.ausl.bologna.it/istituto-delle-scienze-neurologiche/appunt
 amenti-dellistituto/archivio/eventi-passati/giornata-nazionale-per-la-sicu
 rezza-delle-cure-e-della-persona-assistita
END:VEVENT
END:VCALENDAR
