BEGIN:VCALENDAR
VERSION:2.0
PRODID:-//Plone.org//NONSGML plone.app.event//EN
X-WR-TIMEZONE:Europe/Rome
BEGIN:VEVENT
SUMMARY:Giornata Nazionale Parkinson
DTSTART;VALUE=DATE:20211127
DTEND;VALUE=DATE:20211128
DTSTAMP;VALUE=DATE-TIME:20260422T223601Z
UID:6ae432e4bfc5456a93454047c900b372@127.0.0.1:8095
CONTACT:https://giornataparkinson.fondazionelimpe.it/
CREATED;VALUE=DATE-TIME:20211123T095030Z
DESCRIPTION:Incontro virtuale con i pazienti
LAST-MODIFIED;VALUE=DATE-TIME:20221129T151630Z
URL:https://www.ausl.bologna.it/istituto-delle-scienze-neurologiche/appunt
 amenti-dellistituto/archivio/eventi-passati/giornata-nazionale-parkinson
END:VEVENT
END:VCALENDAR
