BEGIN:VCALENDAR
VERSION:2.0
PRODID:-//Plone.org//NONSGML plone.app.event//EN
X-WR-TIMEZONE:Europe/Rome
BEGIN:VEVENT
SUMMARY:Incontro pubblico sul tema Donne e Sclerosi Multipla. Iniziativa o
 rganizzata dal Centro Riabilitazione Sclerosi Multipla dell'ISNB in occasi
 one della Giornata nazionale della Salute della Donna
DTSTART;VALUE=DATE:20210423
DTEND;VALUE=DATE:20210424
DTSTAMP;VALUE=DATE-TIME:20260423T022041Z
UID:dc0d0f789bec41f9a3ac0084b9b6b05f@127.0.0.1:8095
ATTENDEE;CN="Alessandra Lugaresi, Direttore Centro Riabilitazione Sclerosi
  Multipla - IRCCS ISNB";ROLE=REQ-PARTICIPANT:Alessandra Lugaresi, Direttor
 e Centro Riabilitazione Sclerosi Multipla - IRCCS ISNB
CONTACT:https://teams.microsoft.com/l/meetup-join/19%3ameeting_NjM4YzRlZDI
 tZWMwMy00YjRhLTg5YTUtODA3MzA3ODJkMTJk%40thread.v2/0?context=%7b%22Tid%22%3
 a%2209185833-e33a-4d77-8541-9164ad358f14%22%2c%22Oid%22%3a%22c66c50c9-4bd7
 -42c2-baab-70f23ac2f0b9%22%7d
CREATED;VALUE=DATE-TIME:20210407T141117Z
DESCRIPTION:Evento online aperto al pubblico
LAST-MODIFIED;VALUE=DATE-TIME:20221129T151637Z
LOCATION:Incontro online
URL:https://www.ausl.bologna.it/istituto-delle-scienze-neurologiche/appunt
 amenti-dellistituto/archivio/eventi-passati/giornata-nazionale-della-salut
 e-della-donna-incontro-pubblico-online-su-donne-e-sclerosi-multipla
END:VEVENT
END:VCALENDAR
