BEGIN:VCALENDAR
VERSION:2.0
PRODID:-//Plone.org//NONSGML plone.app.event//EN
X-WR-TIMEZONE:Europe/Rome
BEGIN:VEVENT
SUMMARY:Gestione delle Vie Aeree: Update
DTSTART;VALUE=DATE:20220419
DTEND;VALUE=DATE:20220420
DTSTAMP;VALUE=DATE-TIME:20260422T223452Z
UID:ba49ad79b28d490894e227a41b8412df@127.0.0.1:8095
CREATED;VALUE=DATE-TIME:20220315T155310Z
DESCRIPTION:Seminario inpresenza
LAST-MODIFIED;VALUE=DATE-TIME:20221129T151626Z
LOCATION:Aula Ruggiero - Pad. A (Ospedale Bellaria)
URL:https://www.ausl.bologna.it/istituto-delle-scienze-neurologiche/appunt
 amenti-dellistituto/archivio/eventi-passati/gestione-delle-vie-aeree-updat
 e
END:VEVENT
END:VCALENDAR
