BEGIN:VCALENDAR
VERSION:2.0
PRODID:-//Plone.org//NONSGML plone.app.event//EN
X-WR-TIMEZONE:Europe/Rome
BEGIN:VEVENT
SUMMARY:GDS SIN "Neurologia cognitiva e comportamentale" e "Disordini neur
 opsichiatrici"
DTSTART;VALUE=DATE:20210527
DTEND;VALUE=DATE:20210528
DTSTAMP;VALUE=DATE-TIME:20260422T223532Z
UID:f2dd1a8aed9b45a2ae988089625ab392@127.0.0.1:8095
CREATED;VALUE=DATE-TIME:20210525T095331Z
DESCRIPTION:Depresisone e disturbi "funzionali" del movimento
LAST-MODIFIED;VALUE=DATE-TIME:20221129T151635Z
URL:https://www.ausl.bologna.it/istituto-delle-scienze-neurologiche/appunt
 amenti-dellistituto/archivio/eventi-passati/gds-sin-neurologia-cognitiva-e
 -comportamentale-e-disordini-neuropsichiatrici
END:VEVENT
END:VCALENDAR
