BEGIN:VCALENDAR
VERSION:2.0
PRODID:-//Plone.org//NONSGML plone.app.event//EN
X-WR-TIMEZONE:Europe/Rome
BEGIN:VEVENT
SUMMARY:From decompression to cranial reconstruction
DTSTART;VALUE=DATE:20211125
DTEND;VALUE=DATE:20211126
DTSTAMP;VALUE=DATE-TIME:20260422T223337Z
UID:03753d734ce542b380187b29bfae7817@127.0.0.1:8095
CREATED;VALUE=DATE-TIME:20211123T161905Z
DESCRIPTION:Interference between posttraumatic hydrocefalus and cranial re
 construction
LAST-MODIFIED;VALUE=DATE-TIME:20221129T151630Z
URL:https://www.ausl.bologna.it/istituto-delle-scienze-neurologiche/appunt
 amenti-dellistituto/archivio/eventi-passati/from-decompression-to-cranial-
 reconstruction-series
END:VEVENT
END:VCALENDAR
