BEGIN:VCALENDAR
VERSION:2.0
PRODID:-//Plone.org//NONSGML plone.app.event//EN
X-WR-TIMEZONE:Europe/Rome
BEGIN:VEVENT
SUMMARY:Formazione ISNB: passato\, presente\, futuro
DTSTART;VALUE=DATE:20210615
DTEND;VALUE=DATE:20210616
DTSTAMP;VALUE=DATE-TIME:20260422T223601Z
UID:eaef9813a0644916947c009430665c74@127.0.0.1:8095
CREATED;VALUE=DATE-TIME:20210513T144109Z
DESCRIPTION:Seminari IRCCS - Arancione
LAST-MODIFIED;VALUE=DATE-TIME:20221129T151635Z
LOCATION:webinar
URL:https://www.ausl.bologna.it/istituto-delle-scienze-neurologiche/appunt
 amenti-dellistituto/archivio/eventi-passati/formazione-isnb-passato-presen
 te-futuro
END:VEVENT
END:VCALENDAR
