BEGIN:VCALENDAR
VERSION:2.0
PRODID:-//Plone.org//NONSGML plone.app.event//EN
X-WR-TIMEZONE:Europe/Rome
BEGIN:VEVENT
SUMMARY:ERN - Young onset Parkinson’s disease - What is the difference?
DTSTART;VALUE=DATE:20220705
DTEND;VALUE=DATE:20220706
DTSTAMP;VALUE=DATE-TIME:20260422T223534Z
UID:b67637d78d57493db87cc6a0bb7ef6ed@127.0.0.1:8095
CREATED;VALUE=DATE-TIME:20220603T102018Z
DESCRIPTION:Webinar ERN-RND\, EURO-NMD
LAST-MODIFIED;VALUE=DATE-TIME:20221129T151624Z
URL:https://www.ausl.bologna.it/istituto-delle-scienze-neurologiche/appunt
 amenti-dellistituto/archivio/eventi-passati/ern-young-onset-parkinson2019s
 -disease-what-is-the-difference
END:VEVENT
END:VCALENDAR
