BEGIN:VCALENDAR
VERSION:2.0
PRODID:-//Plone.org//NONSGML plone.app.event//EN
X-WR-TIMEZONE:Europe/Rome
BEGIN:VEVENT
SUMMARY:ERN - When is it appropriate to suspect a metabolic disorder in a 
 child with chorea?
DTSTART;VALUE=DATE:20221108
DTEND;VALUE=DATE:20221109
DTSTAMP;VALUE=DATE-TIME:20260422T204931Z
UID:494c8209361249b78698d6f902f1fceb@127.0.0.1:8095
CREATED;VALUE=DATE-TIME:20220603T105338Z
DESCRIPTION:Webinar ERN-RND\, EURO-NMD
LAST-MODIFIED;VALUE=DATE-TIME:20221129T151623Z
URL:https://www.ausl.bologna.it/istituto-delle-scienze-neurologiche/appunt
 amenti-dellistituto/archivio/eventi-passati/ern-when-is-it-appropriate-to-
 suspect-a-metabolic-disorder-in-a-child-with-chorea
END:VEVENT
END:VCALENDAR
