BEGIN:VCALENDAR
VERSION:2.0
PRODID:-//Plone.org//NONSGML plone.app.event//EN
X-WR-TIMEZONE:Europe/Rome
BEGIN:VEVENT
SUMMARY:ERN - VPS13A and XK bulk lipid transfer diseases (formerly the now
  obsolete Levine-Critchley syndrome)
DTSTART;VALUE=DATE:20221025
DTEND;VALUE=DATE:20221026
DTSTAMP;VALUE=DATE-TIME:20260422T205920Z
UID:db9035c664bf41078d2bea8cc2c88a1e@127.0.0.1:8095
CREATED;VALUE=DATE-TIME:20220603T104856Z
DESCRIPTION:Webinar ERN-RND\, EURO-NMD
LAST-MODIFIED;VALUE=DATE-TIME:20221129T151624Z
URL:https://www.ausl.bologna.it/istituto-delle-scienze-neurologiche/appunt
 amenti-dellistituto/archivio/eventi-passati/ern-vps13a-and-xk-bulk-lipid-t
 ransfer-diseases-formerly-the-now-obsolete-levine-critchley-syndrome
END:VEVENT
END:VCALENDAR
