BEGIN:VCALENDAR
VERSION:2.0
PRODID:-//Plone.org//NONSGML plone.app.event//EN
X-WR-TIMEZONE:Europe/Rome
BEGIN:VEVENT
SUMMARY:ERN - Vanishing white matter
DTSTART;VALUE=DATE:20220913
DTEND;VALUE=DATE:20220914
DTSTAMP;VALUE=DATE-TIME:20260422T223453Z
UID:af0d7b85e42142fda2eb9bb78cf144c5@127.0.0.1:8095
CREATED;VALUE=DATE-TIME:20220603T102453Z
DESCRIPTION:Webinar ERN-RND\, EURO NMD
LAST-MODIFIED;VALUE=DATE-TIME:20221129T151624Z
URL:https://www.ausl.bologna.it/istituto-delle-scienze-neurologiche/appunt
 amenti-dellistituto/archivio/eventi-passati/ern-vanishing-white-matter
END:VEVENT
END:VCALENDAR
