BEGIN:VCALENDAR
VERSION:2.0
PRODID:-//Plone.org//NONSGML plone.app.event//EN
X-WR-TIMEZONE:Europe/Rome
BEGIN:VEVENT
SUMMARY:ERN - Use of Biomarkers to monitor the presymptomatic phase of Gen
 etic FTD: research advances for clinical trial readiness
DTSTART;VALUE=DATE:20221122
DTEND;VALUE=DATE:20221123
DTSTAMP;VALUE=DATE-TIME:20260422T205948Z
UID:82f2784701dc4676a59ca689aa7ccdd1@127.0.0.1:8095
CREATED;VALUE=DATE-TIME:20220603T105826Z
DESCRIPTION:Webinar ERN-RND\, EURO-NMD
LAST-MODIFIED;VALUE=DATE-TIME:20221129T151623Z
URL:https://www.ausl.bologna.it/istituto-delle-scienze-neurologiche/appunt
 amenti-dellistituto/archivio/eventi-passati/ern-use-of-biomarkers-to-monit
 or-the-presymptomatic-phase-of-genetic-ftd-research-advances-for-clinical-
 trial-readiness
END:VEVENT
END:VCALENDAR
