BEGIN:VCALENDAR
VERSION:2.0
PRODID:-//Plone.org//NONSGML plone.app.event//EN
X-WR-TIMEZONE:Europe/Rome
BEGIN:VEVENT
SUMMARY:ERN - Update in synuclein PET tracer development
DTSTART;VALUE=DATE:20221206
DTEND;VALUE=DATE:20221207
DTSTAMP;VALUE=DATE-TIME:20260422T204715Z
UID:fe4e93bf20c848d481d727acded67330@127.0.0.1:8095
CREATED;VALUE=DATE-TIME:20220603T111628Z
DESCRIPTION:Webinar ERN-RND\, EURO-NMD
LAST-MODIFIED;VALUE=DATE-TIME:20221129T151623Z
URL:https://www.ausl.bologna.it/istituto-delle-scienze-neurologiche/appunt
 amenti-dellistituto/archivio/eventi-passati/ern-update-in-synuclein-pet-tr
 acer-development
END:VEVENT
END:VCALENDAR
