BEGIN:VCALENDAR
VERSION:2.0
PRODID:-//Plone.org//NONSGML plone.app.event//EN
X-WR-TIMEZONE:Europe/Rome
BEGIN:VEVENT
SUMMARY:ERN - Telerehabilitation in RND: an update
DTSTART;VALUE=DATE:20221108
DTEND;VALUE=DATE:20221109
DTSTAMP;VALUE=DATE-TIME:20260422T205645Z
UID:4774f43cf9fb48158d0ad52aea454d62@127.0.0.1:8095
CREATED;VALUE=DATE-TIME:20220603T105604Z
DESCRIPTION:Webinar ERN-RND\, EURO-NMD
LAST-MODIFIED;VALUE=DATE-TIME:20221129T151623Z
URL:https://www.ausl.bologna.it/istituto-delle-scienze-neurologiche/appunt
 amenti-dellistituto/archivio/eventi-passati/ern-telerehabilitation-in-rnd-
 an-update
END:VEVENT
END:VCALENDAR
