BEGIN:VCALENDAR
VERSION:2.0
PRODID:-//Plone.org//NONSGML plone.app.event//EN
X-WR-TIMEZONE:Europe/Rome
BEGIN:VEVENT
SUMMARY:ERN - Tau-targeting Therapies: Where are we heading to?
DTSTART;VALUE=DATE:20220920
DTEND;VALUE=DATE:20220921
DTSTAMP;VALUE=DATE-TIME:20260422T223710Z
UID:5ef1feb0f3f54eee9177583b86fdf331@127.0.0.1:8095
CREATED;VALUE=DATE-TIME:20220603T102719Z
DESCRIPTION:Webinar ERN-RND\, EURO-NMD
LAST-MODIFIED;VALUE=DATE-TIME:20221129T151624Z
URL:https://www.ausl.bologna.it/istituto-delle-scienze-neurologiche/appunt
 amenti-dellistituto/archivio/eventi-passati/ern-tau-targeting-therapies-wh
 ere-are-we-heading-to
END:VEVENT
END:VCALENDAR
