BEGIN:VCALENDAR
VERSION:2.0
PRODID:-//Plone.org//NONSGML plone.app.event//EN
X-WR-TIMEZONE:Europe/Rome
BEGIN:VEVENT
SUMMARY:ERN - Mitochondrial leukodystrophies
DTSTART;VALUE=DATE:20220524
DTEND;VALUE=DATE:20220525
DTSTAMP;VALUE=DATE-TIME:20260422T223509Z
UID:073ae06a4d2746429b9c6c8b7012028e@127.0.0.1:8095
CREATED;VALUE=DATE-TIME:20220505T144042Z
DESCRIPTION:webinar ERN-RND\, EURO-NMD
LAST-MODIFIED;VALUE=DATE-TIME:20221129T151625Z
URL:https://www.ausl.bologna.it/istituto-delle-scienze-neurologiche/appunt
 amenti-dellistituto/archivio/eventi-passati/ern-mitochondrial-leukodystrop
 hies
END:VEVENT
END:VCALENDAR
