BEGIN:VCALENDAR
VERSION:2.0
PRODID:-//Plone.org//NONSGML plone.app.event//EN
X-WR-TIMEZONE:Europe/Rome
BEGIN:VEVENT
SUMMARY:ERN - Magnetic resonance imaging in the diagnostic assessment of c
 erebellar ataxias
DTSTART;VALUE=DATE:20220628
DTEND;VALUE=DATE:20220629
DTSTAMP;VALUE=DATE-TIME:20260422T224043Z
UID:57c6164aaa1e45f2bbc7445a92669f28@127.0.0.1:8095
CREATED;VALUE=DATE-TIME:20220505T144520Z
DESCRIPTION:Webinar ERN-RND\, EURO-NMD
LAST-MODIFIED;VALUE=DATE-TIME:20221129T151625Z
URL:https://www.ausl.bologna.it/istituto-delle-scienze-neurologiche/appunt
 amenti-dellistituto/archivio/eventi-passati/ern-magnetic-resonance-imaging
 -in-the-diagnostic-assessment-of-cerebellar-ataxias
END:VEVENT
END:VCALENDAR
