BEGIN:VCALENDAR
VERSION:2.0
PRODID:-//Plone.org//NONSGML plone.app.event//EN
X-WR-TIMEZONE:Europe/Rome
BEGIN:VEVENT
SUMMARY:ERN - Krabbe disease – natural history and treatment options
DTSTART;VALUE=DATE:20221011
DTEND;VALUE=DATE:20221012
DTSTAMP;VALUE=DATE-TIME:20260422T223622Z
UID:3a7e7635b7da4c58b6eb6bb399be2791@127.0.0.1:8095
CREATED;VALUE=DATE-TIME:20220603T104119Z
DESCRIPTION:Webinar ERN-RND\, EURO-NMD
LAST-MODIFIED;VALUE=DATE-TIME:20221129T151624Z
URL:https://www.ausl.bologna.it/istituto-delle-scienze-neurologiche/appunt
 amenti-dellistituto/archivio/eventi-passati/ern-krabbe-disease-2013-natura
 l-history-and-treatment-options
END:VEVENT
END:VCALENDAR
