BEGIN:VCALENDAR
VERSION:2.0
PRODID:-//Plone.org//NONSGML plone.app.event//EN
X-WR-TIMEZONE:Europe/Rome
BEGIN:VEVENT
SUMMARY:ERN - Gene therapy\, cancer and neuromuscular diseases
DTSTART;VALUE=DATE:20220421
DTEND;VALUE=DATE:20220422
DTSTAMP;VALUE=DATE-TIME:20260422T223725Z
UID:8edceeba1197454f99186d2e57450b25@127.0.0.1:8095
CREATED;VALUE=DATE-TIME:20220406T140749Z
DESCRIPTION:EURO-NMD webinar
LAST-MODIFIED;VALUE=DATE-TIME:20221129T151626Z
URL:https://www.ausl.bologna.it/istituto-delle-scienze-neurologiche/appunt
 amenti-dellistituto/archivio/eventi-passati/ern-gene-therapy-cancer-and-ne
 uromuscular-diseases
END:VEVENT
END:VCALENDAR
