BEGIN:VCALENDAR
VERSION:2.0
PRODID:-//Plone.org//NONSGML plone.app.event//EN
X-WR-TIMEZONE:Europe/Rome
BEGIN:VEVENT
SUMMARY:ERN - Duchenne Muscular Dystrophy Genetic Diagnosis
DTSTART;VALUE=DATE:20220407
DTEND;VALUE=DATE:20220408
DTSTAMP;VALUE=DATE-TIME:20260422T223559Z
UID:88c18e684b33403f909ffb214baad609@127.0.0.1:8095
CREATED;VALUE=DATE-TIME:20220406T135932Z
DESCRIPTION:EURO-NMD webinar
LAST-MODIFIED;VALUE=DATE-TIME:20221129T151626Z
URL:https://www.ausl.bologna.it/istituto-delle-scienze-neurologiche/appunt
 amenti-dellistituto/archivio/eventi-passati/ern-duchenne-muscular-dystroph
 y-genetic-diagnosis
END:VEVENT
END:VCALENDAR
