BEGIN:VCALENDAR
VERSION:2.0
PRODID:-//Plone.org//NONSGML plone.app.event//EN
X-WR-TIMEZONE:Europe/Rome
BEGIN:VEVENT
SUMMARY:ERN - DBS in Dystonia – Targets\, programming and therapeutic ch
 allenges
DTSTART;VALUE=DATE:20221018
DTEND;VALUE=DATE:20221019
DTSTAMP;VALUE=DATE-TIME:20260423T005340Z
UID:7b85b13c585f4facbc9675697e3f6517@127.0.0.1:8095
CREATED;VALUE=DATE-TIME:20220603T104638Z
DESCRIPTION:Webinar ERN-RND\, EURO-NMD
LAST-MODIFIED;VALUE=DATE-TIME:20221129T151624Z
URL:https://www.ausl.bologna.it/istituto-delle-scienze-neurologiche/appunt
 amenti-dellistituto/archivio/eventi-passati/ern-dbs-in-dystonia-2013-targe
 ts-programming-and-therapeutic-challenges
END:VEVENT
END:VCALENDAR
