BEGIN:VCALENDAR
VERSION:2.0
PRODID:-//Plone.org//NONSGML plone.app.event//EN
X-WR-TIMEZONE:Europe/Rome
BEGIN:VEVENT
SUMMARY:ERN - Clinical and genetic predictors of subthalamic nucleus deep 
 brain stimulation in Parkinson’s disease
DTSTART;VALUE=DATE:20220927
DTEND;VALUE=DATE:20220928
DTSTAMP;VALUE=DATE-TIME:20260422T223710Z
UID:d6df8b696885401fbdf64c83aff5519e@127.0.0.1:8095
CREATED;VALUE=DATE-TIME:20220603T103024Z
DESCRIPTION:Webinar ERN-RND\, EURO-NMD
LAST-MODIFIED;VALUE=DATE-TIME:20221129T151624Z
URL:https://www.ausl.bologna.it/istituto-delle-scienze-neurologiche/appunt
 amenti-dellistituto/archivio/eventi-passati/ern-clinical-and-genetic-predi
 ctors-of-subthalamic-nucleus-deep-brain-stimulation-in-parkinson2019s-dise
 ase
END:VEVENT
END:VCALENDAR
