BEGIN:VCALENDAR
VERSION:2.0
PRODID:-//Plone.org//NONSGML plone.app.event//EN
X-WR-TIMEZONE:Europe/Rome
BEGIN:VEVENT
SUMMARY:ERN - CACNA1A-related disorders: clinical presentation and therape
 utic options
DTSTART;VALUE=DATE:20221004
DTEND;VALUE=DATE:20221005
DTSTAMP;VALUE=DATE-TIME:20260422T223559Z
UID:a14fa4f451004e54ac3047bdbc1712ae@127.0.0.1:8095
CREATED;VALUE=DATE-TIME:20220603T103905Z
DESCRIPTION:Webinar ERN-RND\, EURO-NMD
LAST-MODIFIED;VALUE=DATE-TIME:20221129T151624Z
URL:https://www.ausl.bologna.it/istituto-delle-scienze-neurologiche/appunt
 amenti-dellistituto/archivio/eventi-passati/ern-cacna1a-related-disorders-
 clinical-presentation-and-therapeutic-options
END:VEVENT
END:VCALENDAR
