BEGIN:VCALENDAR
VERSION:2.0
PRODID:-//Plone.org//NONSGML plone.app.event//EN
X-WR-TIMEZONE:Europe/Rome
BEGIN:VEVENT
SUMMARY:ERN - Biofluid biomarkers in atypical parkinsonism
DTSTART;VALUE=DATE:20220621
DTEND;VALUE=DATE:20220622
DTSTAMP;VALUE=DATE-TIME:20260422T223702Z
UID:1a6ba9ba58564ee29f73ea6332a7d622@127.0.0.1:8095
CREATED;VALUE=DATE-TIME:20220505T144316Z
DESCRIPTION:Webinar ERN-RND\, EURO-NMD
LAST-MODIFIED;VALUE=DATE-TIME:20221129T151625Z
URL:https://www.ausl.bologna.it/istituto-delle-scienze-neurologiche/appunt
 amenti-dellistituto/archivio/eventi-passati/ern-biofluid-biomarkers-in-aty
 pical-parkinsonism
END:VEVENT
END:VCALENDAR
