BEGIN:VCALENDAR
VERSION:2.0
PRODID:-//Plone.org//NONSGML plone.app.event//EN
X-WR-TIMEZONE:Europe/Rome
BEGIN:VEVENT
SUMMARY:Elementi di Gestione del Rischio in AUSL Bologna - IRCCS Istituto 
 delle Scienze Neurologiche
DTSTART;VALUE=DATE:20220315
DTEND;VALUE=DATE:20220316
DTSTAMP;VALUE=DATE-TIME:20260422T223806Z
UID:0102a50d892c4428b30eebcc944b599c@127.0.0.1:8095
CREATED;VALUE=DATE-TIME:20220211T104609Z
DESCRIPTION:Seminari IRCCS - Viola
LAST-MODIFIED;VALUE=DATE-TIME:20221129T151627Z
URL:https://www.ausl.bologna.it/istituto-delle-scienze-neurologiche/appunt
 amenti-dellistituto/archivio/eventi-passati/elementi-di-gestione-del-risch
 io-in-ausl-bologna-irccs-istituto-delle-scienze-neurologiche
END:VEVENT
END:VCALENDAR
