BEGIN:VCALENDAR
VERSION:2.0
PRODID:-//Plone.org//NONSGML plone.app.event//EN
X-WR-TIMEZONE:Europe/Rome
BEGIN:VEVENT
SUMMARY:EBV come causa della sclerosi multipla e altri fattori
DTSTART;VALUE=DATE:20220630
DTEND;VALUE=DATE:20220701
DTSTAMP;VALUE=DATE-TIME:20260422T205742Z
UID:f998290fbe31446e90e12c32b42c48f3@127.0.0.1:8095
CREATED;VALUE=DATE-TIME:20220603T141627Z
DESCRIPTION:Seminario ARANCIONE
LAST-MODIFIED;VALUE=DATE-TIME:20221129T151623Z
URL:https://www.ausl.bologna.it/istituto-delle-scienze-neurologiche/appunt
 amenti-dellistituto/archivio/eventi-passati/ebv-come-causa-della-sclerosi-
 multipla-e-altri-fattori
END:VEVENT
END:VCALENDAR
