BEGIN:VCALENDAR
VERSION:2.0
PRODID:-//Plone.org//NONSGML plone.app.event//EN
X-WR-TIMEZONE:Europe/Rome
BEGIN:VEVENT
SUMMARY:Donne ed Epilessia
DTSTART;VALUE=DATE:20220426
DTEND;VALUE=DATE:20220427
DTSTAMP;VALUE=DATE-TIME:20260422T223337Z
UID:98f9e3a728494bbf8625f7b11dcfb2f0@127.0.0.1:8095
CREATED;VALUE=DATE-TIME:20220419T112529Z
DESCRIPTION:colloquio telefonico una neurologa - Settimana della Salute de
 lla Donna
LAST-MODIFIED;VALUE=DATE-TIME:20221129T151625Z
URL:https://www.ausl.bologna.it/istituto-delle-scienze-neurologiche/appunt
 amenti-dellistituto/archivio/eventi-passati/donne-ed-epilessia
END:VEVENT
END:VCALENDAR
