BEGIN:VCALENDAR
VERSION:2.0
PRODID:-//Plone.org//NONSGML plone.app.event//EN
X-WR-TIMEZONE:Europe/Rome
BEGIN:VEVENT
SUMMARY:Domande frequentemente poste in ambito di consenso informato
DTSTART;VALUE=DATE:20210914
DTEND;VALUE=DATE:20210915
DTSTAMP;VALUE=DATE-TIME:20260422T223622Z
UID:753b9b1aea844b2cae4021449c50f087@127.0.0.1:8095
CREATED;VALUE=DATE-TIME:20210908T151017Z
DESCRIPTION:Seminario IRCCS - ARANCIONE
LAST-MODIFIED;VALUE=DATE-TIME:20221129T151633Z
URL:https://www.ausl.bologna.it/istituto-delle-scienze-neurologiche/appunt
 amenti-dellistituto/archivio/eventi-passati/domande-frequentemente-poste-i
 n-ambito-di-consenso-informato
END:VEVENT
END:VCALENDAR
