BEGIN:VCALENDAR
VERSION:2.0
PRODID:-//Plone.org//NONSGML plone.app.event//EN
X-WR-TIMEZONE:Europe/Rome
BEGIN:VEVENT
SUMMARY:Disturbi dell’alimentazione: la ricerca di un paradigma transdia
 gnostico
DTSTART;VALUE=DATE:20211130
DTEND;VALUE=DATE:20211201
DTSTAMP;VALUE=DATE-TIME:20260422T223623Z
UID:d87b4447a6a444a2bce01b531cc1fbd2@127.0.0.1:8095
CREATED;VALUE=DATE-TIME:20211123T085427Z
DESCRIPTION:Seminari Scuole - Blu
LAST-MODIFIED;VALUE=DATE-TIME:20221129T151630Z
URL:https://www.ausl.bologna.it/istituto-delle-scienze-neurologiche/appunt
 amenti-dellistituto/archivio/eventi-passati/disturbi-dell2019alimentazione
 -la-ricerca-di-un-paradigma-transdiagnostico
END:VEVENT
END:VCALENDAR
