BEGIN:VCALENDAR
VERSION:2.0
PRODID:-//Plone.org//NONSGML plone.app.event//EN
X-WR-TIMEZONE:Europe/Rome
BEGIN:VEVENT
SUMMARY:ERN - Current challenges of semiology in pediatric neurology
DTSTART;VALUE=DATE:20221027
DTEND;VALUE=DATE:20221028
DTSTAMP;VALUE=DATE-TIME:20260422T205645Z
UID:66b8011158cf4bda8588f5f227173c4a@127.0.0.1:8095
CREATED;VALUE=DATE-TIME:20220603T113126Z
DESCRIPTION:ERN Hybrid course
LAST-MODIFIED;VALUE=DATE-TIME:20221129T151623Z
URL:https://www.ausl.bologna.it/istituto-delle-scienze-neurologiche/appunt
 amenti-dellistituto/archivio/eventi-passati/current-challenges-of-semiolog
 y-in-pediatric-neurology
END:VEVENT
END:VCALENDAR
