BEGIN:VCALENDAR
VERSION:2.0
PRODID:-//Plone.org//NONSGML plone.app.event//EN
X-WR-TIMEZONE:Europe/Rome
BEGIN:VEVENT
SUMMARY:Cure palliative precoci come e quando attivarle
DTSTART;VALUE=DATE:20220118
DTEND;VALUE=DATE:20220119
DTSTAMP;VALUE=DATE-TIME:20260422T223452Z
UID:fcf8f214534f4a59af285b54cbd135bd@127.0.0.1:8095
CREATED;VALUE=DATE-TIME:20220112T160309Z
DESCRIPTION:Seminari IRCCS - Verde
LAST-MODIFIED;VALUE=DATE-TIME:20221129T151628Z
URL:https://www.ausl.bologna.it/istituto-delle-scienze-neurologiche/appunt
 amenti-dellistituto/archivio/eventi-passati/cure-palliative-precoci-come-e
 -quando-attivarle
END:VEVENT
END:VCALENDAR
