BEGIN:VCALENDAR
VERSION:2.0
PRODID:-//Plone.org//NONSGML plone.app.event//EN
X-WR-TIMEZONE:Europe/Rome
BEGIN:VEVENT
SUMMARY:Consulenze neurologiche gratuite - (Eco TSA e EMG)
DTSTART;VALUE=DATE:20220421
DTEND;VALUE=DATE:20220422
DTSTAMP;VALUE=DATE-TIME:20260422T223508Z
UID:e135b406647042b7978fff444c909f88@127.0.0.1:8095
CREATED;VALUE=DATE-TIME:20220419T111909Z
DESCRIPTION:Servizi offerti ai cittadini - Settimana della Salute della Do
 nna
LAST-MODIFIED;VALUE=DATE-TIME:20221129T151626Z
URL:https://www.ausl.bologna.it/istituto-delle-scienze-neurologiche/appunt
 amenti-dellistituto/archivio/eventi-passati/consulenze-neurologiche-gratui
 te-eco-tsa-e-emg
END:VEVENT
END:VCALENDAR
