BEGIN:VCALENDAR
VERSION:2.0
PRODID:-//Plone.org//NONSGML plone.app.event//EN
X-WR-TIMEZONE:Europe/Rome
BEGIN:VEVENT
SUMMARY:Concettualizzazione e operalizzazione della disabilità in Neurori
 abilitazione
DTSTART;VALUE=DATE:20210629
DTEND;VALUE=DATE:20210630
DTSTAMP;VALUE=DATE-TIME:20260422T224042Z
UID:7303f6f3bd97470087d6e7cf45a35a67@127.0.0.1:8095
CREATED;VALUE=DATE-TIME:20210609T142114Z
DESCRIPTION:webinar IRCCS - Blu
LAST-MODIFIED;VALUE=DATE-TIME:20221129T151634Z
URL:https://www.ausl.bologna.it/istituto-delle-scienze-neurologiche/appunt
 amenti-dellistituto/archivio/eventi-passati/concettualizzazione-e-operaliz
 zazione-della-disabilita-in-neuroriabilitazione
END:VEVENT
END:VCALENDAR
