BEGIN:VCALENDAR
VERSION:2.0
PRODID:-//Plone.org//NONSGML plone.app.event//EN
X-WR-TIMEZONE:Europe/Rome
BEGIN:VEVENT
SUMMARY:Comunicazione medico-paziente nell’era dell’intelligenza artif
 iciale
DTSTART;VALUE=DATE:20210713
DTEND;VALUE=DATE:20210714
DTSTAMP;VALUE=DATE-TIME:20260422T223601Z
UID:33e64ecca3664cf3b744ed3cd4b2d669@127.0.0.1:8095
CREATED;VALUE=DATE-TIME:20210630T145318Z
DESCRIPTION:Seminario IRCCS - Verde
LAST-MODIFIED;VALUE=DATE-TIME:20221129T151633Z
URL:https://www.ausl.bologna.it/istituto-delle-scienze-neurologiche/appunt
 amenti-dellistituto/archivio/eventi-passati/comunicazione-medico-paziente-
 nell2019era-dell2019intelligenza-artificiale
END:VEVENT
END:VCALENDAR
