BEGIN:VCALENDAR
VERSION:2.0
PRODID:-//Plone.org//NONSGML plone.app.event//EN
X-WR-TIMEZONE:Europe/Rome
BEGIN:VEVENT
SUMMARY:ERN - Caring HD: the experience of the French National Reference C
 entre
DTSTART;VALUE=DATE:20220624
DTEND;VALUE=DATE:20220625
DTSTAMP;VALUE=DATE-TIME:20260422T223622Z
UID:b2773acc569e4e449d89d4cc4461f63d@127.0.0.1:8095
CREATED;VALUE=DATE-TIME:20220505T155737Z
DESCRIPTION:Webinar ERN-RND\, EURO-NMD
LAST-MODIFIED;VALUE=DATE-TIME:20221129T151625Z
URL:https://www.ausl.bologna.it/istituto-delle-scienze-neurologiche/appunt
 amenti-dellistituto/archivio/eventi-passati/caring-hd-the-experience-of-th
 e-french-national-reference-centre
END:VEVENT
END:VCALENDAR
