BEGIN:VCALENDAR
VERSION:2.0
PRODID:-//Plone.org//NONSGML plone.app.event//EN
X-WR-TIMEZONE:Europe/Rome
BEGIN:VEVENT
SUMMARY:Brokerage Event europeo dedicato al Cluster Health di Horizon Eu
 rope
DTSTART;VALUE=DATE:20210705
DTEND;VALUE=DATE:20210706
DTSTAMP;VALUE=DATE-TIME:20260422T223956Z
UID:ed2e0ff72fe8435b9badbda6d725c88d@127.0.0.1:8095
CREATED;VALUE=DATE-TIME:20210622T134555Z
DESCRIPTION:webinar
LAST-MODIFIED;VALUE=DATE-TIME:20221129T151634Z
URL:https://www.ausl.bologna.it/istituto-delle-scienze-neurologiche/appunt
 amenti-dellistituto/archivio/eventi-passati/brokerage-event-europeo-dedica
 to-al-cluster-health-di-horizon-europe
END:VEVENT
END:VCALENDAR
