BEGIN:VCALENDAR
VERSION:2.0
PRODID:-//Plone.org//NONSGML plone.app.event//EN
X-WR-TIMEZONE:Europe/Rome
BEGIN:VEVENT
SUMMARY:Bologna Parkinson
DTSTART;VALUE=DATE:20220303
DTEND;VALUE=DATE:20220304
DTSTAMP;VALUE=DATE-TIME:20260422T223509Z
UID:3523c416916d47a09149cfaee72ac54a@127.0.0.1:8095
CONTACT:Provider e Segreteria Organizzativa MCC srl\, 051-263703\, segrete
 ria@mccstudio.org\, https://www.mccstudio.org/?p=4513
CREATED;VALUE=DATE-TIME:20220125T100728Z
LAST-MODIFIED;VALUE=DATE-TIME:20221129T151628Z
LOCATION:AC Hotel Bologna Via Sebastiano Serlio\, 28 – Bologna
URL:https://www.ausl.bologna.it/istituto-delle-scienze-neurologiche/appunt
 amenti-dellistituto/archivio/eventi-passati/bologna-parkinson
END:VEVENT
END:VCALENDAR
