BEGIN:VCALENDAR
VERSION:2.0
PRODID:-//Plone.org//NONSGML plone.app.event//EN
X-WR-TIMEZONE:Europe/Rome
BEGIN:VEVENT
SUMMARY:Bologna Cefalea 2022
DTSTART;VALUE=DATE:20220401
DTEND;VALUE=DATE:20220402
DTSTAMP;VALUE=DATE-TIME:20260422T223452Z
UID:c6289d57dca54565bf3e1b0113cebd52@127.0.0.1:8095
CONTACT:PROVIDER E SEGRETERIA ORGANIZZATIVA MCC srl\, 051-263703\, segrete
 ria@mccstudio.org\, https://www.mccstudio.org/?p=4521
CREATED;VALUE=DATE-TIME:20220125T094350Z
LAST-MODIFIED;VALUE=DATE-TIME:20221129T151628Z
LOCATION:Oratorio San Filippo Neri\, Via Manzoni\, 5 – Bologna
URL:https://www.ausl.bologna.it/istituto-delle-scienze-neurologiche/appunt
 amenti-dellistituto/archivio/eventi-passati/bologna-cefalea-2022
END:VEVENT
END:VCALENDAR
