BEGIN:VCALENDAR
VERSION:2.0
PRODID:-//Plone.org//NONSGML plone.app.event//EN
X-WR-TIMEZONE:Europe/Rome
BEGIN:VEVENT
SUMMARY:Bologna Cadaver Lab
DTSTART;VALUE=DATE:20211104
DTEND;VALUE=DATE:20211105
DTSTAMP;VALUE=DATE-TIME:20260422T223453Z
UID:78ecc036f1374e0d9679509782a7307b@127.0.0.1:8095
CREATED;VALUE=DATE-TIME:20211029T161214Z
DESCRIPTION:ENDOSCOPIC SURGERY OF THE PARANASAL SINUSES AND SKULL BASE
LAST-MODIFIED;VALUE=DATE-TIME:20221129T151631Z
URL:https://www.ausl.bologna.it/istituto-delle-scienze-neurologiche/appunt
 amenti-dellistituto/archivio/eventi-passati/bologna-cadaver-lab
END:VEVENT
END:VCALENDAR
