BEGIN:VCALENDAR
VERSION:2.0
PRODID:-//Plone.org//NONSGML plone.app.event//EN
X-WR-TIMEZONE:Europe/Rome
BEGIN:VEVENT
SUMMARY:Body Shaming\, una pratica tribale: teoria e discussione caso (Par
 te II)
DTSTART;VALUE=DATE:20210727
DTEND;VALUE=DATE:20210728
DTSTAMP;VALUE=DATE-TIME:20260422T223726Z
UID:c4a0ceb34fc84db4a5e8a3c91e306b2d@127.0.0.1:8095
CREATED;VALUE=DATE-TIME:20210630T145900Z
DESCRIPTION:Seminario IRCCS - Blu
LAST-MODIFIED;VALUE=DATE-TIME:20221129T151633Z
URL:https://www.ausl.bologna.it/istituto-delle-scienze-neurologiche/appunt
 amenti-dellistituto/archivio/eventi-passati/body-shaming-una-pratica-triba
 le-teoria-e-discussione-caso-parte-ii
END:VEVENT
END:VCALENDAR
