BEGIN:VCALENDAR
VERSION:2.0
PRODID:-//Plone.org//NONSGML plone.app.event//EN
X-WR-TIMEZONE:Europe/Rome
BEGIN:VEVENT
SUMMARY:Body Shaming\, una pratica tribale: teoria e discussione caso (Par
 te I)
DTSTART;VALUE=DATE:20210525
DTEND;VALUE=DATE:20210526
DTSTAMP;VALUE=DATE-TIME:20260422T223725Z
UID:ad6282ce079143d19b2f2c7880b94a34@127.0.0.1:8095
CREATED;VALUE=DATE-TIME:20210513T121637Z
DESCRIPTION:Seminario IRCCS - Blu
LAST-MODIFIED;VALUE=DATE-TIME:20221129T151636Z
LOCATION:webinar
URL:https://www.ausl.bologna.it/istituto-delle-scienze-neurologiche/appunt
 amenti-dellistituto/archivio/eventi-passati/body-shaming-una-pratica-triba
 le-teoria-e-discussione-caso-parte-i
END:VEVENT
END:VCALENDAR
