BEGIN:VCALENDAR
VERSION:2.0
PRODID:-//Plone.org//NONSGML plone.app.event//EN
X-WR-TIMEZONE:Europe/Rome
BEGIN:VEVENT
SUMMARY:Atrofia corticale posteriore: eterogeneità clinica e patologica
DTSTART;VALUE=DATE:20211130
DTEND;VALUE=DATE:20211201
DTSTAMP;VALUE=DATE-TIME:20260422T223839Z
UID:1f2d114034824281be947dd8e440926d@127.0.0.1:8095
CREATED;VALUE=DATE-TIME:20211123T085303Z
DESCRIPTION:Seminari Scuole - BLU
LAST-MODIFIED;VALUE=DATE-TIME:20221129T151630Z
URL:https://www.ausl.bologna.it/istituto-delle-scienze-neurologiche/appunt
 amenti-dellistituto/archivio/eventi-passati/atrofia-corticale-posteriore-e
 terogeneita-clinica-e-patologica
END:VEVENT
END:VCALENDAR
