BEGIN:VCALENDAR
VERSION:2.0
PRODID:-//Plone.org//NONSGML plone.app.event//EN
X-WR-TIMEZONE:Europe/Rome
BEGIN:VEVENT
SUMMARY:Assistenza all'ictus: a che punto siamo a 30 anni dalla nascita de
 ll'EBM
DTSTART;VALUE=DATE:20220524
DTEND;VALUE=DATE:20220525
DTSTAMP;VALUE=DATE-TIME:20260422T224021Z
UID:313e04f599c84e0aab65ebaedfd2438c@127.0.0.1:8095
CREATED;VALUE=DATE-TIME:20220502T151530Z
DESCRIPTION:Evento in ricordo di Alessandro Liberati
LAST-MODIFIED;VALUE=DATE-TIME:20221129T151625Z
LOCATION:online
URL:https://www.ausl.bologna.it/istituto-delle-scienze-neurologiche/appunt
 amenti-dellistituto/archivio/eventi-passati/assistenza-allictus-a-che-punt
 o-siamo-a-30-anni-dalla-nascita-dellebm
END:VEVENT
END:VCALENDAR
