BEGIN:VCALENDAR
VERSION:2.0
PRODID:-//Plone.org//NONSGML plone.app.event//EN
X-WR-TIMEZONE:Europe/Rome
BEGIN:VEVENT
SUMMARY:Antisense oligonucleotide mediated exon skipping therapy developme
 nt for Duchenne muscular dystrophy takes more than an oligonucleotide
DTSTART;VALUE=DATE:20220329
DTEND;VALUE=DATE:20220330
DTSTAMP;VALUE=DATE-TIME:20260422T223452Z
UID:e5f9fe7d5a5948ce926345344c72095a@127.0.0.1:8095
CREATED;VALUE=DATE-TIME:20220211T103305Z
DESCRIPTION:Seminari IRCCS - Blu
LAST-MODIFIED;VALUE=DATE-TIME:20221129T151627Z
URL:https://www.ausl.bologna.it/istituto-delle-scienze-neurologiche/appunt
 amenti-dellistituto/archivio/eventi-passati/antisense-oligonucleotide-medi
 ated-exon-skipping-therapy-development-for-duchenne-muscular-dystrophy-tak
 es-more-than-an-oligonucleotide-1
END:VEVENT
END:VCALENDAR
