BEGIN:VCALENDAR
VERSION:2.0
PRODID:-//Plone.org//NONSGML plone.app.event//EN
X-WR-TIMEZONE:Europe/Rome
BEGIN:VEVENT
SUMMARY:Alignment of national rare diseases strategies with the European J
 oint Programme on rare disease
DTSTART;VALUE=DATE:20210708
DTEND;VALUE=DATE:20210709
DTSTAMP;VALUE=DATE-TIME:20260422T223910Z
UID:8e9a15cad6404ba79479a879809e0810@127.0.0.1:8095
CREATED;VALUE=DATE-TIME:20210616T151218Z
DESCRIPTION:webinar
LAST-MODIFIED;VALUE=DATE-TIME:20221129T151634Z
URL:https://www.ausl.bologna.it/istituto-delle-scienze-neurologiche/appunt
 amenti-dellistituto/archivio/eventi-passati/alignment-of-national-rare-dis
 eases-strategies-with-the-european-joint-programme-on-rare-disease
END:VEVENT
END:VCALENDAR
