BEGIN:VCALENDAR
VERSION:2.0
PRODID:-//Plone.org//NONSGML plone.app.event//EN
X-WR-TIMEZONE:Europe/Rome
BEGIN:VEVENT
SUMMARY:Aggiornamenti in tema di Responsabilità Professionale
DTSTART;VALUE=DATE:20220215
DTEND;VALUE=DATE:20220216
DTSTAMP;VALUE=DATE-TIME:20260422T223623Z
UID:62df2c7d62374c9382fc993f3e73ffb3@127.0.0.1:8095
CREATED;VALUE=DATE-TIME:20220211T095229Z
DESCRIPTION:seminari IRCCS - Lilla
LAST-MODIFIED;VALUE=DATE-TIME:20221129T151627Z
URL:https://www.ausl.bologna.it/istituto-delle-scienze-neurologiche/appunt
 amenti-dellistituto/archivio/eventi-passati/aggiornamenti-in-tema-di-respo
 nsabilita-professionale
END:VEVENT
END:VCALENDAR
