BEGIN:VCALENDAR
VERSION:2.0
PRODID:-//Plone.org//NONSGML plone.app.event//EN
X-WR-TIMEZONE:Europe/Rome
BEGIN:VEVENT
SUMMARY:1st INTERNATIONAL SYMPOSIUM on Autosomal Dominant Leukodystrophy (
 ADLD)
DTSTART;VALUE=DATE:20220701
DTEND;VALUE=DATE:20220702
DTSTAMP;VALUE=DATE-TIME:20260422T204916Z
UID:e95c02fdb9f949caa684ce9925d763bb@127.0.0.1:8095
CREATED;VALUE=DATE-TIME:20220617T114426Z
DESCRIPTION:NEUROLOGICAL SCIENCES DAY 2022 - in memory of Elio Lugaresi an
 d Pasquale Montagna
LAST-MODIFIED;VALUE=DATE-TIME:20221129T151622Z
URL:https://www.ausl.bologna.it/istituto-delle-scienze-neurologiche/appunt
 amenti-dellistituto/archivio/eventi-passati/1st-international-symposium-on
 -autosomal-dominant-leukodystrophy-adld
END:VEVENT
END:VCALENDAR
